BEGIN:VCALENDAR
VERSION:2.0
PRODID:-//Al-Anon District 3 - ECPv6.15.17.1//NONSGML v1.0//EN
CALSCALE:GREGORIAN
METHOD:PUBLISH
X-WR-CALNAME:Al-Anon District 3
X-ORIGINAL-URL:https://alnd3.regerly.com
X-WR-CALDESC:Events for Al-Anon District 3
REFRESH-INTERVAL;VALUE=DURATION:PT1H
X-Robots-Tag:noindex
X-PUBLISHED-TTL:PT1H
BEGIN:VTIMEZONE
TZID:UTC
BEGIN:STANDARD
TZOFFSETFROM:+0000
TZOFFSETTO:+0000
TZNAME:UTC
DTSTART:20220101T000000
END:STANDARD
END:VTIMEZONE
BEGIN:VEVENT
DTSTART;TZID=UTC:20230225T100000
DTEND;TZID=UTC:20230225T143000
DTSTAMP:20260421T233303
CREATED:20221219T104340Z
LAST-MODIFIED:20221219T104340Z
UID:1809-1677319200-1677335400@alnd3.regerly.com
SUMMARY:Serenity by the Sea 2023
DESCRIPTION:Click here for Flyer
URL:https://alnd3.regerly.com/event/serenity-by-the-sea-2023/
LOCATION:Ventana Grill\, 2575 Price St\, Pismo Beach\, CA\, 93449
END:VEVENT
END:VCALENDAR