BEGIN:VCALENDAR
VERSION:2.0
PRODID:-//Al-Anon District 3 - ECPv6.15.17.1//NONSGML v1.0//EN
CALSCALE:GREGORIAN
METHOD:PUBLISH
X-WR-CALNAME:Al-Anon District 3
X-ORIGINAL-URL:https://alnd3.regerly.com
X-WR-CALDESC:Events for Al-Anon District 3
REFRESH-INTERVAL;VALUE=DURATION:PT1H
X-Robots-Tag:noindex
X-PUBLISHED-TTL:PT1H
BEGIN:VTIMEZONE
TZID:UTC
BEGIN:STANDARD
TZOFFSETFROM:+0000
TZOFFSETTO:+0000
TZNAME:UTC
DTSTART:20220101T000000
END:STANDARD
END:VTIMEZONE
BEGIN:VEVENT
DTSTART;TZID=UTC:20230929T100000
DTEND;TZID=UTC:20231001T100000
DTSTAMP:20260421T102845
CREATED:20230615T183246Z
LAST-MODIFIED:20230615T183246Z
UID:2079-1695981600-1696154400@alnd3.regerly.com
SUMMARY:Southern California AA Convention with Al-Anon Participation
DESCRIPTION:Southern California AA Convention with Al-Anon Participation \nYou can register online or download a mail in registration form from the Convention website:https://aasocal.com/index.php \nThe Convention is being held at the Pacific Palms Resort from September 29 – October 1\, 2023: \nPacific Palms Resort\n1 Industry Hills Pkwy\nCity of Industry\, CA 91744 \nThe Al-Anon committee is also selling Convention themed merchandise to help fund our participation in the convention.  Tote bags and emblems and additional items are available for purchase.  Download the merchandise flyer for more information.
URL:https://alnd3.regerly.com/event/56th-annual-district-22-aa-convention-with-al-anon-participation-2/
LOCATION:CA
END:VEVENT
END:VCALENDAR