BEGIN:VCALENDAR
VERSION:2.0
PRODID:-//Al-Anon District 3 - ECPv6.15.17.1//NONSGML v1.0//EN
CALSCALE:GREGORIAN
METHOD:PUBLISH
X-ORIGINAL-URL:https://alnd3.regerly.com
X-WR-CALDESC:Events for Al-Anon District 3
REFRESH-INTERVAL;VALUE=DURATION:PT1H
X-Robots-Tag:noindex
X-PUBLISHED-TTL:PT1H
BEGIN:VTIMEZONE
TZID:America/Los_Angeles
BEGIN:DAYLIGHT
TZOFFSETFROM:-0800
TZOFFSETTO:-0700
TZNAME:PDT
DTSTART:20230312T100000
END:DAYLIGHT
BEGIN:STANDARD
TZOFFSETFROM:-0700
TZOFFSETTO:-0800
TZNAME:PST
DTSTART:20231105T090000
END:STANDARD
BEGIN:DAYLIGHT
TZOFFSETFROM:-0800
TZOFFSETTO:-0700
TZNAME:PDT
DTSTART:20240310T100000
END:DAYLIGHT
BEGIN:STANDARD
TZOFFSETFROM:-0700
TZOFFSETTO:-0800
TZNAME:PST
DTSTART:20241103T090000
END:STANDARD
BEGIN:DAYLIGHT
TZOFFSETFROM:-0800
TZOFFSETTO:-0700
TZNAME:PDT
DTSTART:20250309T100000
END:DAYLIGHT
BEGIN:STANDARD
TZOFFSETFROM:-0700
TZOFFSETTO:-0800
TZNAME:PST
DTSTART:20251102T090000
END:STANDARD
END:VTIMEZONE
BEGIN:VEVENT
DTSTART;TZID=America/Los_Angeles:20240210T180000
DTEND;TZID=America/Los_Angeles:20240210T193000
DTSTAMP:20260421T044058
CREATED:20240207T014412Z
LAST-MODIFIED:20240207T014412Z
UID:2244-1707588000-1707593400@alnd3.regerly.com
SUMMARY:~ Saturday Night Thrive! ~ Al-Anon Birthday Speaker Meeting: Second Saturday of the Month
DESCRIPTION:Final_Al-Anon Speaker Meetings2024
URL:https://alnd3.regerly.com/event/saturday-night-thrive-al-anon-birthday-speaker-meeting-second-saturday-of-the-month/
LOCATION:United Church of Christ\, 11245 Los Osos Valley Road\, San Luis Obispo\, CA\, 93405\, United States
END:VEVENT
END:VCALENDAR