BEGIN:VCALENDAR
VERSION:2.0
PRODID:-//Al-Anon District 3 - ECPv6.15.17.1//NONSGML v1.0//EN
CALSCALE:GREGORIAN
METHOD:PUBLISH
X-WR-CALNAME:Al-Anon District 3
X-ORIGINAL-URL:https://alnd3.regerly.com
X-WR-CALDESC:Events for Al-Anon District 3
REFRESH-INTERVAL;VALUE=DURATION:PT1H
X-Robots-Tag:noindex
X-PUBLISHED-TTL:PT1H
BEGIN:VTIMEZONE
TZID:America/Los_Angeles
BEGIN:DAYLIGHT
TZOFFSETFROM:-0800
TZOFFSETTO:-0700
TZNAME:PDT
DTSTART:20230312T100000
END:DAYLIGHT
BEGIN:STANDARD
TZOFFSETFROM:-0700
TZOFFSETTO:-0800
TZNAME:PST
DTSTART:20231105T090000
END:STANDARD
BEGIN:DAYLIGHT
TZOFFSETFROM:-0800
TZOFFSETTO:-0700
TZNAME:PDT
DTSTART:20240310T100000
END:DAYLIGHT
BEGIN:STANDARD
TZOFFSETFROM:-0700
TZOFFSETTO:-0800
TZNAME:PST
DTSTART:20241103T090000
END:STANDARD
BEGIN:DAYLIGHT
TZOFFSETFROM:-0800
TZOFFSETTO:-0700
TZNAME:PDT
DTSTART:20250309T100000
END:DAYLIGHT
BEGIN:STANDARD
TZOFFSETFROM:-0700
TZOFFSETTO:-0800
TZNAME:PST
DTSTART:20251102T090000
END:STANDARD
BEGIN:DAYLIGHT
TZOFFSETFROM:-0800
TZOFFSETTO:-0700
TZNAME:PDT
DTSTART:20260308T100000
END:DAYLIGHT
BEGIN:STANDARD
TZOFFSETFROM:-0700
TZOFFSETTO:-0800
TZNAME:PST
DTSTART:20261101T090000
END:STANDARD
END:VTIMEZONE
BEGIN:VTIMEZONE
TZID:UTC
BEGIN:STANDARD
TZOFFSETFROM:+0000
TZOFFSETTO:+0000
TZNAME:UTC
DTSTART:20210101T000000
END:STANDARD
END:VTIMEZONE
BEGIN:VTIMEZONE
TZID:UTC
BEGIN:STANDARD
TZOFFSETFROM:+0000
TZOFFSETTO:+0000
TZNAME:UTC
DTSTART:20220101T000000
END:STANDARD
END:VTIMEZONE
BEGIN:VTIMEZONE
TZID:Asia/Krasnoyarsk
BEGIN:STANDARD
TZOFFSETFROM:+0700
TZOFFSETTO:+0700
TZNAME:+07
DTSTART:20210101T000000
END:STANDARD
END:VTIMEZONE
BEGIN:VEVENT
DTSTART;VALUE=DATE:20250822
DTEND;VALUE=DATE:20250825
DTSTAMP:20260420T033826
CREATED:20241122T023012Z
LAST-MODIFIED:20241122T023012Z
UID:2376-1755820800-1756079999@alnd3.regerly.com
SUMMARY:58th Annual District 22 AA Convention\, with Al-Anon Participation
DESCRIPTION:View all convention details and register here! My D22
URL:https://alnd3.regerly.com/event/58th-annual-district-22-aa-convention-with-al-anon-participation/
LOCATION:Vet’s Hall • San Luis Obispo\, CA\, San Luis Obispo\, CA\, United States
END:VEVENT
BEGIN:VEVENT
DTSTART;VALUE=DATE:20250222
DTEND;VALUE=DATE:20250223
DTSTAMP:20260420T033826
CREATED:20241201T133532Z
LAST-MODIFIED:20241201T133532Z
UID:2382-1740182400-1740268799@alnd3.regerly.com
SUMMARY:Serenity by the Sea
DESCRIPTION:Event details here: Serenity by the Sea \n 
URL:https://alnd3.regerly.com/event/save-the-date-serenity-by-the-sea/
LOCATION:Ventana Grill\, 2575 Price St\, Pismo Beach\, CA\, 93449
END:VEVENT
BEGIN:VEVENT
DTSTART;TZID=America/Los_Angeles:20241202T120000
DTEND;TZID=America/Los_Angeles:20241202T130000
DTSTAMP:20260420T033826
CREATED:20241122T020946Z
LAST-MODIFIED:20241122T020946Z
UID:2373-1733140800-1733144400@alnd3.regerly.com
SUMMARY:Speaker Meeting at San Luis Obispo AFG
DESCRIPTION:12.02.24 Guest Speaker – SLO Melody Club
URL:https://alnd3.regerly.com/event/speaker-meeting-at-san-luis-obispo-afg/
LOCATION:Melody Group\, 265 South Street\, Suite F\, San Luis Obispo\, 93401\, United States
END:VEVENT
BEGIN:VEVENT
DTSTART;VALUE=DATE:20241018
DTEND;VALUE=DATE:20241021
DTSTAMP:20260420T033826
CREATED:20241002T002335Z
LAST-MODIFIED:20241002T002335Z
UID:2360-1729209600-1729468799@alnd3.regerly.com
SUMMARY:52nd District Central Coast Round Up
DESCRIPTION:2024Flyer Central Coast Round Up
URL:https://alnd3.regerly.com/event/central-coast-round-up/
LOCATION:Santa Maria Veterans Hall\, 313 W. Tunnell St\, Santa Maria\, Ca
END:VEVENT
BEGIN:VEVENT
DTSTART;TZID=America/Los_Angeles:20240824T110000
DTEND;TZID=America/Los_Angeles:20240824T140000
DTSTAMP:20260420T033827
CREATED:20240523T233039Z
LAST-MODIFIED:20240523T233039Z
UID:2334-1724497200-1724508000@alnd3.regerly.com
SUMMARY:August 24\, 2024 ~ Al-Anon Luncheon
DESCRIPTION:
URL:https://alnd3.regerly.com/event/august-24-2024-al-anon-luncheon/
LOCATION:Embassy Suites\, 333 Madonna Rd.\, San Luis Obispo\, CA\, 93405\, United States
END:VEVENT
BEGIN:VEVENT
DTSTART;TZID=America/Los_Angeles:20240512T130000
DTEND;TZID=America/Los_Angeles:20240512T140000
DTSTAMP:20260420T033827
CREATED:20231221T082549Z
LAST-MODIFIED:20231221T082549Z
UID:2174-1715518800-1715522400@alnd3.regerly.com
SUMMARY:Link: Convention Meeting Dates Flyer 2024
DESCRIPTION:Convention-flyer-2024-1 \n2nd Sunday of the Month \nJune 9 ~ July 14 ~ August 11 
URL:https://alnd3.regerly.com/event/convention-meeting-dates-flyer-2024/
LOCATION:Melody Group\, 265 South Street\, Suite F\, San Luis Obispo\, 93401\, United States
END:VEVENT
BEGIN:VEVENT
DTSTART;VALUE=DATE:20240426
DTEND;VALUE=DATE:20240429
DTSTAMP:20260420T033827
CREATED:20240102T105113Z
LAST-MODIFIED:20240102T105113Z
UID:2190-1714089600-1714348799@alnd3.regerly.com
SUMMARY:~ Don't Stop Believin ~  April 26-28 2024 /  42nd ANNUAL SOUTHERN CALIFORNIA /  AL-ANON FAMILY GROUPS CONVENTION
DESCRIPTION:LINK.AFG-2024-Flyer
URL:https://alnd3.regerly.com/event/dont-stop-believin-april-26-28-2024-42nd-annual-southern-california-al-anon-family-groups-convention/
LOCATION:Double Tree Hotel\, Ontario\, CA\, 222 N Vineyard Ave\, Ontario\, California\, 91764
END:VEVENT
BEGIN:VEVENT
DTSTART;TZID=America/Los_Angeles:20240413T180000
DTEND;TZID=America/Los_Angeles:20240413T193000
DTSTAMP:20260420T033827
CREATED:20240226T021249Z
LAST-MODIFIED:20240226T021249Z
UID:2285-1713031200-1713036600@alnd3.regerly.com
SUMMARY:Saturday Night Thrive AFG ~ Meets the 2nd Saturday of each month!
DESCRIPTION:April_Al-Anon Speaker Meetings2024
URL:https://alnd3.regerly.com/event/saturday-night-thrive-afg-meets-the-2nd-saturday-of-each-month-2/
LOCATION:United Church of Christ\, 11245 Los Osos Valley Road\, San Luis Obispo\, CA\, 93405\, United States
END:VEVENT
BEGIN:VEVENT
DTSTART;TZID=America/Los_Angeles:20240309T180000
DTEND;TZID=America/Los_Angeles:20240309T193000
DTSTAMP:20260420T033827
CREATED:20240226T020800Z
LAST-MODIFIED:20240226T020800Z
UID:2273-1710007200-1710012600@alnd3.regerly.com
SUMMARY:Saturday Night Thrive AFG ~ Meets the 2nd Saturday of each month!
DESCRIPTION:LINK ~ March_Al-Anon Speaker Meetings2024
URL:https://alnd3.regerly.com/event/saturday-night-thrive-afg-meets-the-2nd-saturday-of-each-month/
LOCATION:United Church of Christ\, 11245 Los Osos Valley Road\, San Luis Obispo\, CA\, 93405\, United States
END:VEVENT
BEGIN:VEVENT
DTSTART;TZID=America/Los_Angeles:20240224T100000
DTEND;TZID=America/Los_Angeles:20240224T143000
DTSTAMP:20260420T033827
CREATED:20240111T203835Z
LAST-MODIFIED:20240111T203835Z
UID:2227-1708768800-1708785000@alnd3.regerly.com
SUMMARY:Flyer: 2024 Serenity by the Sea Basket Raffle
DESCRIPTION:
URL:https://alnd3.regerly.com/event/2024-serenity-by-the-sea-basket-raffle/
LOCATION:Ventana Grill\, 2575 Price St\, Pismo Beach\, CA\, 93449
END:VEVENT
BEGIN:VEVENT
DTSTART;TZID=America/Los_Angeles:20240224T100000
DTEND;TZID=America/Los_Angeles:20240224T143000
DTSTAMP:20260420T033827
CREATED:20231027T193432Z
LAST-MODIFIED:20231027T193432Z
UID:2117-1708768800-1708785000@alnd3.regerly.com
SUMMARY:SAVE the DATE - Serenity by the Sea 02/24/2024
DESCRIPTION:REGISTRATION is now open!\nhttps://serenitybts.org/\n  \n  \n 
URL:https://alnd3.regerly.com/event/save-the-date-serenity-by-the-sea-2024/
LOCATION:Ventana Grill\, 2575 Price St\, Pismo Beach\, CA\, 93449
END:VEVENT
BEGIN:VEVENT
DTSTART;TZID=America/Los_Angeles:20240210T180000
DTEND;TZID=America/Los_Angeles:20240210T193000
DTSTAMP:20260420T033827
CREATED:20240207T014412Z
LAST-MODIFIED:20240207T014412Z
UID:2244-1707588000-1707593400@alnd3.regerly.com
SUMMARY:~ Saturday Night Thrive! ~ Al-Anon Birthday Speaker Meeting: Second Saturday of the Month
DESCRIPTION:Final_Al-Anon Speaker Meetings2024
URL:https://alnd3.regerly.com/event/saturday-night-thrive-al-anon-birthday-speaker-meeting-second-saturday-of-the-month/
LOCATION:United Church of Christ\, 11245 Los Osos Valley Road\, San Luis Obispo\, CA\, 93405\, United States
END:VEVENT
BEGIN:VEVENT
DTSTART;TZID=America/Los_Angeles:20240201T080000
DTEND;TZID=America/Los_Angeles:20240201T170000
DTSTAMP:20260420T033827
CREATED:20240111T203613Z
LAST-MODIFIED:20240111T203613Z
UID:2222-1706774400-1706806800@alnd3.regerly.com
SUMMARY:Serenity by the Sea Gratitude Flyer
DESCRIPTION:  \n  \n 
URL:https://alnd3.regerly.com/event/serenity-by-the-sea-gratitude-flyer/
LOCATION:CA
END:VEVENT
BEGIN:VEVENT
DTSTART;TZID=UTC:20231115T180000
DTEND;TZID=UTC:20231115T193000
DTSTAMP:20260420T033827
CREATED:20231103T225602Z
LAST-MODIFIED:20231103T225602Z
UID:2138-1700071200-1700076600@alnd3.regerly.com
SUMMARY:District Meeting
DESCRIPTION:
URL:https://alnd3.regerly.com/event/district-meeting-2/
LOCATION:St John’s Lutheran Church\, 959 Valley Rd\, Arroyo Grande\, CA\, 93420\, United States
END:VEVENT
BEGIN:VEVENT
DTSTART;TZID=UTC:20230929T100000
DTEND;TZID=UTC:20231001T100000
DTSTAMP:20260420T033827
CREATED:20230615T183246Z
LAST-MODIFIED:20230615T183246Z
UID:2079-1695981600-1696154400@alnd3.regerly.com
SUMMARY:Southern California AA Convention with Al-Anon Participation
DESCRIPTION:Southern California AA Convention with Al-Anon Participation \nYou can register online or download a mail in registration form from the Convention website:https://aasocal.com/index.php \nThe Convention is being held at the Pacific Palms Resort from September 29 – October 1\, 2023: \nPacific Palms Resort\n1 Industry Hills Pkwy\nCity of Industry\, CA 91744 \nThe Al-Anon committee is also selling Convention themed merchandise to help fund our participation in the convention.  Tote bags and emblems and additional items are available for purchase.  Download the merchandise flyer for more information.
URL:https://alnd3.regerly.com/event/56th-annual-district-22-aa-convention-with-al-anon-participation-2/
LOCATION:CA
END:VEVENT
BEGIN:VEVENT
DTSTART;TZID=UTC:20230920T180000
DTEND;TZID=UTC:20230920T200000
DTSTAMP:20260420T033827
CREATED:20230913T053349Z
LAST-MODIFIED:20230913T053349Z
UID:2109-1695232800-1695240000@alnd3.regerly.com
SUMMARY:District Meeting
DESCRIPTION:On Zoom \n  \nTopic: District Meeting\nTime: Sep 20\, 2023 06:00 PM Pacific Time (US and Canada) \nJoin Zoom Meeting\nhttps://us06web.zoom.us/j/89857687868?pwd=WTBLTU5PTG1ia2U0NXBiMWpJUjlhQT09 \nMeeting ID: 898 5768 7868\nPasscode: 849623 \n  \nDial by your location\n• +1 669 444 9171 US \nMeeting ID: 898 5768 7868\nPasscode: 849623 \nFind your local number: https://us06web.zoom.us/u/kcWoPY6WvT \n 
URL:https://alnd3.regerly.com/event/district-meeting/
LOCATION:CA
END:VEVENT
BEGIN:VEVENT
DTSTART;TZID=UTC:20230825T080000
DTEND;TZID=UTC:20230827T170000
DTSTAMP:20260420T033827
CREATED:20230517T200946Z
LAST-MODIFIED:20230517T200946Z
UID:2071-1692950400-1693155600@alnd3.regerly.com
SUMMARY:56th Annual District 22 AA Convention with Al-Anon Participation
DESCRIPTION:  \nDownload Flyer 1 \nDownload Flyer 2
URL:https://alnd3.regerly.com/event/56th-annual-district-22-aa-convention-with-al-anon-participation/
LOCATION:Vet’s Hall • San Luis Obispo\, CA\, San Luis Obispo\, CA\, United States
END:VEVENT
BEGIN:VEVENT
DTSTART;TZID=UTC:20230514T080000
DTEND;TZID=UTC:20230514T170000
DTSTAMP:20260420T033827
CREATED:20230514T182209Z
LAST-MODIFIED:20230514T182209Z
UID:2063-1684051200-1684083600@alnd3.regerly.com
SUMMARY:New Book Study Meeting Beginning → May 21\, 2023 Sundays 2:30 - 3:30 pm
DESCRIPTION:Changed Attitudes\nNew Book Study Meeting\nBeginning → May 21\, 2023\nSundays 2:30 – 3:30 pm\nOdd Fellows Hall\n710 Harbor St. Morro Bay\, CA 93442\nPlease Join Us ~ Service Positions Available\nQuestions? Call Lizzy B at (805) 459-016
URL:https://alnd3.regerly.com/event/new-book-study-meeting-beginning-%e2%86%92-may-21-2023-sundays-230-330-pm/
LOCATION:CA
END:VEVENT
BEGIN:VEVENT
DTSTART;TZID=UTC:20230507T130000
DTEND;TZID=UTC:20230910T150000
DTSTAMP:20260420T033827
CREATED:20230415T084420Z
LAST-MODIFIED:20230415T084420Z
UID:2056-1683464400-1694358000@alnd3.regerly.com
SUMMARY:71st SCAAS Planning Meetings 5/5 - 6/11-7/9 - 8/13 - 9/10
DESCRIPTION:
URL:https://alnd3.regerly.com/event/71st-scaas-planning-meetings/
LOCATION:CA
END:VEVENT
BEGIN:VEVENT
DTSTART;VALUE=DATE:20230324
DTEND;VALUE=DATE:20230327
DTSTAMP:20260420T033827
CREATED:20230118T081149Z
LAST-MODIFIED:20230118T081149Z
UID:1924-1679616000-1679875199@alnd3.regerly.com
SUMMARY:46th Annual Southern California Al-Anon Family Groups Convention
DESCRIPTION:  \nDouble Tree Hotel \nOntario\, CA \nRegister and additional information: \nWWW.AFGCONVENTION.ORG \nClick for flyer
URL:https://alnd3.regerly.com/event/46th-annual-southern-california-al-anon-family-groups-convention/
LOCATION:CA
END:VEVENT
BEGIN:VEVENT
DTSTART;TZID=UTC:20230225T100000
DTEND;TZID=UTC:20230225T143000
DTSTAMP:20260420T033827
CREATED:20221219T104340Z
LAST-MODIFIED:20221219T104340Z
UID:1809-1677319200-1677335400@alnd3.regerly.com
SUMMARY:Serenity by the Sea 2023
DESCRIPTION:Click here for Flyer
URL:https://alnd3.regerly.com/event/serenity-by-the-sea-2023/
LOCATION:Ventana Grill\, 2575 Price St\, Pismo Beach\, CA\, 93449
END:VEVENT
BEGIN:VEVENT
DTSTART;TZID=UTC:20230211T100000
DTEND;TZID=UTC:20230211T120000
DTSTAMP:20260420T033827
CREATED:20230118T204934Z
LAST-MODIFIED:20230118T204934Z
UID:1944-1676109600-1676116800@alnd3.regerly.com
SUMMARY:Electronic Groups Town Hall Meeting
DESCRIPTION:Saturday February 11\, 2023 \nTime: 10:00 – 12:00 \nEnglish: Meeting ID: 850 4695 4885\nPasscode: 429422\nSpanish: Meeting ID: 853 9129 6299\nPasscode: 29624 \nClick for Flyer \n 
URL:https://alnd3.regerly.com/event/electronic-groups-town-hall-meeting/
LOCATION:CA
END:VEVENT
BEGIN:VEVENT
DTSTART;TZID=UTC:20230121T090000
DTEND;TZID=UTC:20230121T160000
DTSTAMP:20260420T033827
CREATED:20230111T222007Z
LAST-MODIFIED:20230111T222007Z
UID:1827-1674291600-1674316800@alnd3.regerly.com
SUMMARY:Sharing of Service Workshop
DESCRIPTION:Zoom Information \nMeeting ID: 869 7469 0856\nPasscode: 437686 \nFlyer \n 
URL:https://alnd3.regerly.com/event/sharing-of-service-workshop/
LOCATION:CA
END:VEVENT
BEGIN:VEVENT
DTSTART;TZID=Asia/Krasnoyarsk:20221224T190000
DTEND;TZID=Asia/Krasnoyarsk:20221224T203000
DTSTAMP:20260420T033827
CREATED:20220914T041124Z
LAST-MODIFIED:20220914T041124Z
UID:1771-1671908400-1671913800@alnd3.regerly.com
SUMMARY:Monthly Speaker Meeting-Dec
DESCRIPTION:Al-Anon PDF Speaker Meetings-Click to download PDF \nZoom – until further notice\nID: 568 401 0130\nPassword: 101552
URL:https://alnd3.regerly.com/event/monthly-speaker-meeting-dec/
LOCATION:CA
ATTACH;FMTTYPE=image/jpeg:https://alnd3.regerly.com/wp-content/uploads/2022/09/speaker.jpg
END:VEVENT
BEGIN:VEVENT
DTSTART;TZID=Asia/Krasnoyarsk:20221126T190000
DTEND;TZID=Asia/Krasnoyarsk:20221126T203000
DTSTAMP:20260420T033827
CREATED:20220914T041021Z
LAST-MODIFIED:20220914T041021Z
UID:1769-1669489200-1669494600@alnd3.regerly.com
SUMMARY:Monthly Speaker Meeting-Nov
DESCRIPTION:Al-Anon PDF Speaker Meetings-Click to download PDF \nZoom – until further notice\nID: 568 401 0130\nPassword: 101552
URL:https://alnd3.regerly.com/event/monthly-speaker-meeting-nov/
LOCATION:CA
ATTACH;FMTTYPE=image/jpeg:https://alnd3.regerly.com/wp-content/uploads/2022/09/speaker.jpg
END:VEVENT
BEGIN:VEVENT
DTSTART;TZID=Asia/Krasnoyarsk:20221022T190000
DTEND;TZID=Asia/Krasnoyarsk:20221022T203000
DTSTAMP:20260420T033827
CREATED:20220914T040915Z
LAST-MODIFIED:20220914T040915Z
UID:1766-1666465200-1666470600@alnd3.regerly.com
SUMMARY:Monthly Speaker Meeting-Oct
DESCRIPTION:Al-Anon PDF Speaker Meetings-Click to download PDF \nZoom – until further notice\nID: 568 401 0130\nPassword: 101552
URL:https://alnd3.regerly.com/event/monthly-speaker-meeting-oct/
LOCATION:CA
ATTACH;FMTTYPE=image/jpeg:https://alnd3.regerly.com/wp-content/uploads/2022/09/speaker.jpg
END:VEVENT
BEGIN:VEVENT
DTSTART;TZID=Asia/Krasnoyarsk:20220924T190000
DTEND;TZID=Asia/Krasnoyarsk:20220924T203000
DTSTAMP:20260420T033827
CREATED:20220914T040052Z
LAST-MODIFIED:20220914T040052Z
UID:1758-1664046000-1664051400@alnd3.regerly.com
SUMMARY:Monthly Speaker Meeting-Sep
DESCRIPTION:Al-Anon PDF Speaker Meetings-Click to download PDF \nZoom – until further notice\nID: 568 401 0130\nPassword: 101552
URL:https://alnd3.regerly.com/event/monthly-speaker-meeting/
LOCATION:CA
ATTACH;FMTTYPE=image/jpeg:https://alnd3.regerly.com/wp-content/uploads/2022/09/speaker.jpg
END:VEVENT
BEGIN:VEVENT
DTSTART;TZID=UTC:20220724T190000
DTEND;TZID=UTC:20220724T203000
DTSTAMP:20260420T033827
CREATED:20220713T065206Z
LAST-MODIFIED:20220713T065206Z
UID:1671-1658689200-1658694600@alnd3.regerly.com
SUMMARY:July Al-Anon Speaker Meetings
DESCRIPTION:July Al-Anon Speaker Meetings \n 
URL:https://alnd3.regerly.com/event/june-al-anon-speaker-meetings/
LOCATION:CA
END:VEVENT
END:VCALENDAR