BEGIN:VCALENDAR
VERSION:2.0
PRODID:-//Al-Anon District 3 - ECPv6.15.17.1//NONSGML v1.0//EN
CALSCALE:GREGORIAN
METHOD:PUBLISH
X-WR-CALNAME:Al-Anon District 3
X-ORIGINAL-URL:https://alnd3.regerly.com
X-WR-CALDESC:Events for Al-Anon District 3
REFRESH-INTERVAL;VALUE=DURATION:PT1H
X-Robots-Tag:noindex
X-PUBLISHED-TTL:PT1H
BEGIN:VTIMEZONE
TZID:America/Los_Angeles
BEGIN:DAYLIGHT
TZOFFSETFROM:-0800
TZOFFSETTO:-0700
TZNAME:PDT
DTSTART:20250309T100000
END:DAYLIGHT
BEGIN:STANDARD
TZOFFSETFROM:-0700
TZOFFSETTO:-0800
TZNAME:PST
DTSTART:20251102T090000
END:STANDARD
BEGIN:DAYLIGHT
TZOFFSETFROM:-0800
TZOFFSETTO:-0700
TZNAME:PDT
DTSTART:20260308T100000
END:DAYLIGHT
BEGIN:STANDARD
TZOFFSETFROM:-0700
TZOFFSETTO:-0800
TZNAME:PST
DTSTART:20261101T090000
END:STANDARD
BEGIN:DAYLIGHT
TZOFFSETFROM:-0800
TZOFFSETTO:-0700
TZNAME:PDT
DTSTART:20270314T100000
END:DAYLIGHT
BEGIN:STANDARD
TZOFFSETFROM:-0700
TZOFFSETTO:-0800
TZNAME:PST
DTSTART:20271107T090000
END:STANDARD
END:VTIMEZONE
BEGIN:VEVENT
DTSTART;VALUE=DATE:20260228
DTEND;VALUE=DATE:20260301
DTSTAMP:20260419T213617
CREATED:20251110T014453Z
LAST-MODIFIED:20251110T014453Z
UID:2454-1772236800-1772323199@alnd3.regerly.com
SUMMARY:Serenity by the Sea - 02/28/26
DESCRIPTION:Serenity by the Sea 2026 \nRegistration will open on January 1\, 2026 at https://serenitybts.org/ – all seats have been reserved\, but you may visit the website to be added to the waitlist. \n2026 SBTS Basket Flyer \nDistrict 3 groups are encouraged to donate a basket to the raffle. Raffle ticket sales will be seed money for next year’s event. \nJoin us for a beautiful event\, featuring: \n\nLuncheon: Herb chicken\, salmon\, rice pilaf\, steamed veggies\, green salad\, rolls\, and dessert\nAl-Anon Speakers: One main speaker and two local speakers\nRaffles: Baskets from the local District 3 Al-Anon meetings\nFellowship: Gratitude\, inspiration\, and fun\nSpace is limited; please plan accordingly! 
URL:https://alnd3.regerly.com/event/serenity-by-the-sea-save-the-date-02-28-26/
LOCATION:Ventana Grill\, 2575 Price St\, Pismo Beach\, CA\, 93449
END:VEVENT
BEGIN:VEVENT
DTSTART;TZID=America/Los_Angeles:20260308T180000
DTEND;TZID=America/Los_Angeles:20260308T193000
DTSTAMP:20260419T213617
CREATED:20240226T021517Z
LAST-MODIFIED:20240226T021517Z
UID:2288-1772992800-1772998200@alnd3.regerly.com
SUMMARY:Saturday Night Thrive AFG ~ Speaker Meeting ~ 2nd Saturday of each month!
DESCRIPTION:See details here: Saturday Night Thrive 2025-2026 \n 
URL:https://alnd3.regerly.com/event/saturday-night-thrive-afg-meets-the-2nd-saturday-of-each-month-3/
LOCATION:United Church of Christ\, 11245 Los Osos Valley Road\, San Luis Obispo\, CA\, 93405\, United States
END:VEVENT
BEGIN:VEVENT
DTSTART;TZID=America/Los_Angeles:20260317T180000
DTEND;TZID=America/Los_Angeles:20260317T191500
DTSTAMP:20260419T213617
CREATED:20251110T012201Z
LAST-MODIFIED:20251110T012201Z
UID:2447-1773770400-1773774900@alnd3.regerly.com
SUMMARY:District Meeting: March 17 2026
DESCRIPTION:District Meetings – click for 2026 meeting dates and more info \n*District Meetings are Hybrid: on Zoom and in person. New in person location! \nZoom Meeting ID: 867 5070 1762   (NO password required)\nJoin Zoom Meeting: https://calpoly.zoom.us/j/86750701762 \n  \n  \n 
URL:https://alnd3.regerly.com/event/district-meeting-november-18/
LOCATION:St Stephen’s Church\, 1344 Nipomo St\, San Luis Obispo\, California
END:VEVENT
END:VCALENDAR